Package: preciseTADhub Version: 1.16.0 Command: /home/biocbuild/bbs-3.21-bioc/R/bin/R CMD build --keep-empty-dirs --no-resave-data preciseTADhub StartedAt: 2025-09-30 11:33:05 -0400 (Tue, 30 Sep 2025) EndedAt: 2025-09-30 11:34:38 -0400 (Tue, 30 Sep 2025) EllapsedTime: 93.3 seconds RetCode: 0 Status: OK PackageFile: preciseTADhub_1.16.0.tar.gz PackageFileSize: 228.5 KiB