Package: octad.db Version: 1.10.0 Command: /home/biocbuild/bbs-3.21-bioc/R/bin/R CMD INSTALL octad.db StartedAt: 2025-10-16 10:57:14 -0400 (Thu, 16 Oct 2025) EndedAt: 2025-10-16 10:57:27 -0400 (Thu, 16 Oct 2025) EllapsedTime: 13.0 seconds RetCode: 0 Status: OK