Package: oct4 Version: 1.24.0 Command: /home/biocbuild/bbs-3.21-bioc/R/bin/R CMD INSTALL oct4 StartedAt: 2025-10-16 10:55:23 -0400 (Thu, 16 Oct 2025) EndedAt: 2025-10-16 10:55:25 -0400 (Thu, 16 Oct 2025) EllapsedTime: 2.5 seconds RetCode: 0 Status: OK