Package: nullrangesData Version: 1.14.0 Command: /home/biocbuild/bbs-3.21-bioc/R/bin/R CMD INSTALL nullrangesData StartedAt: 2025-10-02 10:58:54 -0400 (Thu, 02 Oct 2025) EndedAt: 2025-10-02 10:59:24 -0400 (Thu, 02 Oct 2025) EllapsedTime: 30.4 seconds RetCode: 0 Status: OK