Package: nullrangesData Version: 1.14.0 Command: /home/biocbuild/bbs-3.21-bioc/R/bin/R CMD build --keep-empty-dirs --no-resave-data nullrangesData StartedAt: 2025-10-02 11:32:01 -0400 (Thu, 02 Oct 2025) EndedAt: 2025-10-02 11:32:50 -0400 (Thu, 02 Oct 2025) EllapsedTime: 48.8 seconds RetCode: 0 Status: OK PackageFile: nullrangesData_1.14.0.tar.gz PackageFileSize: 4.148 MiB