Package: geneLenDataBase Version: 1.44.0 Command: /home/biocbuild/bbs-3.21-bioc/R/bin/R CMD INSTALL geneLenDataBase StartedAt: 2025-10-16 11:02:28 -0400 (Thu, 16 Oct 2025) EndedAt: 2025-10-16 11:03:43 -0400 (Thu, 16 Oct 2025) EllapsedTime: 75.0 seconds RetCode: 0 Status: OK