Package: geneLenDataBase Version: 1.44.0 Command: /home/biocbuild/bbs-3.21-bioc/R/bin/R CMD build --keep-empty-dirs --no-resave-data geneLenDataBase StartedAt: 2025-10-16 11:18:19 -0400 (Thu, 16 Oct 2025) EndedAt: 2025-10-16 11:19:14 -0400 (Thu, 16 Oct 2025) EllapsedTime: 54.2 seconds RetCode: 0 Status: OK PackageFile: geneLenDataBase_1.44.0.tar.gz PackageFileSize: 95.79 MiB