Package: davidTiling Version: 1.48.0 Command: /home/biocbuild/bbs-3.21-bioc/R/bin/R CMD INSTALL davidTiling StartedAt: 2025-10-16 10:57:41 -0400 (Thu, 16 Oct 2025) EndedAt: 2025-10-16 10:58:34 -0400 (Thu, 16 Oct 2025) EllapsedTime: 53.5 seconds RetCode: 0 Status: OK