Package: davidTiling Version: 1.48.0 Command: /home/biocbuild/bbs-3.21-bioc/R/bin/R CMD build --keep-empty-dirs --no-resave-data davidTiling StartedAt: 2025-10-16 11:13:09 -0400 (Thu, 16 Oct 2025) EndedAt: 2025-10-16 11:14:12 -0400 (Thu, 16 Oct 2025) EllapsedTime: 63.5 seconds RetCode: 0 Status: OK PackageFile: davidTiling_1.48.0.tar.gz PackageFileSize: 537.7 MiB