Package: bsseqData Version: 0.46.0 Command: /home/biocbuild/bbs-3.21-bioc/R/bin/R CMD INSTALL bsseqData StartedAt: 2025-10-16 11:02:15 -0400 (Thu, 16 Oct 2025) EndedAt: 2025-10-16 11:03:03 -0400 (Thu, 16 Oct 2025) EllapsedTime: 48.2 seconds RetCode: 0 Status: OK