Package: blimaTestingData Version: 1.28.0 Command: /home/biocbuild/bbs-3.21-bioc/R/bin/R CMD build --keep-empty-dirs --no-resave-data blimaTestingData StartedAt: 2025-09-30 11:06:42 -0400 (Tue, 30 Sep 2025) EndedAt: 2025-09-30 11:07:23 -0400 (Tue, 30 Sep 2025) EllapsedTime: 41.3 seconds RetCode: 0 Status: OK PackageFile: blimaTestingData_1.28.0.tar.gz PackageFileSize: 98.28 MiB