Package: benchmarkfdrData2019 Version: 1.22.0 Command: /home/biocbuild/bbs-3.21-bioc/R/bin/R CMD build --keep-empty-dirs --no-resave-data benchmarkfdrData2019 StartedAt: 2025-09-30 11:06:32 -0400 (Tue, 30 Sep 2025) EndedAt: 2025-09-30 11:07:07 -0400 (Tue, 30 Sep 2025) EllapsedTime: 35.2 seconds RetCode: 1 Status: ERROR PackageFile: None PackageFileSize: NA