Package: TimerQuant Version: 1.38.0 Command: /home/biocbuild/bbs-3.21-bioc/R/bin/R CMD INSTALL TimerQuant StartedAt: 2025-09-30 10:56:37 -0400 (Tue, 30 Sep 2025) EndedAt: 2025-09-30 10:56:43 -0400 (Tue, 30 Sep 2025) EllapsedTime: 5.8 seconds RetCode: 0 Status: OK