Package: TimerQuant Version: 1.38.0 Command: /home/biocbuild/bbs-3.21-bioc/R/bin/R CMD build --keep-empty-dirs --no-resave-data TimerQuant StartedAt: 2025-09-25 11:43:07 -0400 (Thu, 25 Sep 2025) EndedAt: 2025-09-25 11:43:19 -0400 (Thu, 25 Sep 2025) EllapsedTime: 11.3 seconds RetCode: 1 Status: ERROR PackageFile: None PackageFileSize: NA