Package: TargetScoreData Version: 1.44.0 Command: /home/biocbuild/bbs-3.21-bioc/R/bin/R CMD INSTALL TargetScoreData StartedAt: 2025-10-07 10:55:27 -0400 (Tue, 07 Oct 2025) EndedAt: 2025-10-07 10:55:29 -0400 (Tue, 07 Oct 2025) EllapsedTime: 2.1 seconds RetCode: 0 Status: OK