Package: TargetScoreData Version: 1.44.0 Command: /home/biocbuild/bbs-3.21-bioc/R/bin/R CMD build --keep-empty-dirs --no-resave-data TargetScoreData StartedAt: 2025-10-09 11:41:20 -0400 (Thu, 09 Oct 2025) EndedAt: 2025-10-09 11:41:55 -0400 (Thu, 09 Oct 2025) EllapsedTime: 35.1 seconds RetCode: 0 Status: OK PackageFile: TargetScoreData_1.44.0.tar.gz PackageFileSize: 206.2 MiB