Package: Single.mTEC.Transcriptomes Version: 1.36.0 Command: /home/biocbuild/bbs-3.21-bioc/R/bin/R CMD INSTALL Single.mTEC.Transcriptomes StartedAt: 2025-10-02 10:55:50 -0400 (Thu, 02 Oct 2025) EndedAt: 2025-10-02 10:56:08 -0400 (Thu, 02 Oct 2025) EllapsedTime: 18.5 seconds RetCode: 0 Status: OK