Package: RTCGA.mutations Version: 20151101.38.0 Command: /home/biocbuild/bbs-3.21-bioc/R/bin/R CMD build --keep-empty-dirs --no-resave-data RTCGA.mutations StartedAt: 2025-10-16 11:37:01 -0400 (Thu, 16 Oct 2025) EndedAt: 2025-10-16 11:40:22 -0400 (Thu, 16 Oct 2025) EllapsedTime: 200.7 seconds RetCode: 0 Status: OK PackageFile: RTCGA.mutations_20151101.38.0.tar.gz PackageFileSize: 103.8 MiB