Package: RTCGA.mRNA Version: 1.36.0 Command: /home/biocbuild/bbs-3.21-bioc/R/bin/R CMD INSTALL RTCGA.mRNA StartedAt: 2025-10-16 10:58:14 -0400 (Thu, 16 Oct 2025) EndedAt: 2025-10-16 10:58:47 -0400 (Thu, 16 Oct 2025) EllapsedTime: 33.5 seconds RetCode: 0 Status: OK