Package: RTCGA.mRNA Version: 1.36.0 Command: /home/biocbuild/bbs-3.21-bioc/R/bin/R CMD build --keep-empty-dirs --no-resave-data RTCGA.mRNA StartedAt: 2025-10-16 11:36:50 -0400 (Thu, 16 Oct 2025) EndedAt: 2025-10-16 11:37:31 -0400 (Thu, 16 Oct 2025) EllapsedTime: 41.0 seconds RetCode: 0 Status: OK PackageFile: RTCGA.mRNA_1.36.0.tar.gz PackageFileSize: 84.98 MiB