Package: RTCGA.PANCAN12 Version: 1.36.0 Command: /home/biocbuild/bbs-3.21-bioc/R/bin/R CMD INSTALL RTCGA.PANCAN12 StartedAt: 2025-10-16 10:58:10 -0400 (Thu, 16 Oct 2025) EndedAt: 2025-10-16 10:58:20 -0400 (Thu, 16 Oct 2025) EllapsedTime: 10.3 seconds RetCode: 0 Status: OK