Package: QDNAseq.hg19 Version: 1.38.0 Command: /home/biocbuild/bbs-3.21-bioc/R/bin/R CMD INSTALL QDNAseq.hg19 StartedAt: 2025-10-16 11:03:44 -0400 (Thu, 16 Oct 2025) EndedAt: 2025-10-16 11:03:57 -0400 (Thu, 16 Oct 2025) EllapsedTime: 13.1 seconds RetCode: 0 Status: OK