Package: MicrobiomeBenchmarkData Version: 1.10.0 Command: /home/biocbuild/bbs-3.21-bioc/R/bin/R CMD build --keep-empty-dirs --no-resave-data MicrobiomeBenchmarkData StartedAt: 2025-10-16 11:28:36 -0400 (Thu, 16 Oct 2025) EndedAt: 2025-10-16 11:29:37 -0400 (Thu, 16 Oct 2025) EllapsedTime: 61.2 seconds RetCode: 0 Status: OK PackageFile: MicrobiomeBenchmarkData_1.10.0.tar.gz PackageFileSize: 712.4 KiB