Package: HelloRangesData Version: 1.34.0 Command: /home/biocbuild/bbs-3.21-bioc/R/bin/R CMD INSTALL HelloRangesData StartedAt: 2025-09-30 10:55:49 -0400 (Tue, 30 Sep 2025) EndedAt: 2025-09-30 10:55:53 -0400 (Tue, 30 Sep 2025) EllapsedTime: 4.7 seconds RetCode: 0 Status: OK