Package: FlowSorted.Blood.450k Version: 1.46.0 Command: /home/biocbuild/bbs-3.21-bioc/R/bin/R CMD INSTALL FlowSorted.Blood.450k StartedAt: 2025-10-16 11:02:54 -0400 (Thu, 16 Oct 2025) EndedAt: 2025-10-16 11:04:05 -0400 (Thu, 16 Oct 2025) EllapsedTime: 71.0 seconds RetCode: 0 Status: OK