Package: FlowSorted.Blood.450k Version: 1.46.0 Command: /home/biocbuild/bbs-3.21-bioc/R/bin/R CMD build --keep-empty-dirs --no-resave-data FlowSorted.Blood.450k StartedAt: 2025-10-16 11:16:33 -0400 (Thu, 16 Oct 2025) EndedAt: 2025-10-16 11:18:00 -0400 (Thu, 16 Oct 2025) EllapsedTime: 86.1 seconds RetCode: 0 Status: OK PackageFile: FlowSorted.Blood.450k_1.46.0.tar.gz PackageFileSize: 167.8 MiB