Package: CopyNeutralIMA Version: 1.26.0 Command: /home/biocbuild/bbs-3.21-bioc/R/bin/R CMD INSTALL CopyNeutralIMA StartedAt: 2025-10-02 10:58:02 -0400 (Thu, 02 Oct 2025) EndedAt: 2025-10-02 10:58:19 -0400 (Thu, 02 Oct 2025) EllapsedTime: 17.0 seconds RetCode: 0 Status: OK