Package: ConnectivityMap Version: 1.44.0 Command: /home/biocbuild/bbs-3.21-bioc/R/bin/R CMD build --keep-empty-dirs --no-resave-data ConnectivityMap StartedAt: 2025-10-02 11:09:49 -0400 (Thu, 02 Oct 2025) EndedAt: 2025-10-02 11:10:05 -0400 (Thu, 02 Oct 2025) EllapsedTime: 15.2 seconds RetCode: 0 Status: OK PackageFile: ConnectivityMap_1.44.0.tar.gz PackageFileSize: 236.7 MiB