Package: AssessORFData Version: 1.26.0 Command: /home/biocbuild/bbs-3.21-bioc/R/bin/R CMD INSTALL AssessORFData StartedAt: 2025-10-16 10:56:50 -0400 (Thu, 16 Oct 2025) EndedAt: 2025-10-16 10:57:34 -0400 (Thu, 16 Oct 2025) EllapsedTime: 44.1 seconds RetCode: 0 Status: OK