Package: AssessORFData Version: 1.26.0 Command: /home/biocbuild/bbs-3.21-bioc/R/bin/R CMD build --keep-empty-dirs --no-resave-data AssessORFData StartedAt: 2025-10-16 11:06:25 -0400 (Thu, 16 Oct 2025) EndedAt: 2025-10-16 11:07:58 -0400 (Thu, 16 Oct 2025) EllapsedTime: 92.9 seconds RetCode: 0 Status: OK PackageFile: AssessORFData_1.26.0.tar.gz PackageFileSize: 144.6 MiB