Package: AmpAffyExample Version: 1.48.0 Command: /home/biocbuild/bbs-3.21-bioc/R/bin/R CMD INSTALL AmpAffyExample StartedAt: 2025-10-02 10:56:37 -0400 (Thu, 02 Oct 2025) EndedAt: 2025-10-02 10:56:40 -0400 (Thu, 02 Oct 2025) EllapsedTime: 2.8 seconds RetCode: 0 Status: OK