Package: variancePartition Version: 1.38.1 Command: /home/biocbuild/R/R/bin/R CMD build --keep-empty-dirs --no-resave-data variancePartition StartedAt: 2025-10-14 05:36:49 -0000 (Tue, 14 Oct 2025) EndedAt: 2025-10-14 05:54:00 -0000 (Tue, 14 Oct 2025) EllapsedTime: 1031.2 seconds RetCode: 0 Status: OK PackageFile: variancePartition_1.38.1.tar.gz PackageFileSize: 4.765 MiB