Package: tidySpatialExperiment Version: 1.4.1 Command: /home/biocbuild/R/R/bin/R CMD INSTALL tidySpatialExperiment StartedAt: 2025-10-13 20:35:25 -0000 (Mon, 13 Oct 2025) EndedAt: 2025-10-13 20:36:07 -0000 (Mon, 13 Oct 2025) EllapsedTime: 41.6 seconds RetCode: 0 Status: OK