Package: tidySpatialExperiment Version: 1.4.1 Command: /home/biocbuild/R/R/bin/R CMD build --keep-empty-dirs --no-resave-data tidySpatialExperiment StartedAt: 2025-10-14 05:23:25 -0000 (Tue, 14 Oct 2025) EndedAt: 2025-10-14 05:24:42 -0000 (Tue, 14 Oct 2025) EllapsedTime: 77.0 seconds RetCode: 0 Status: OK PackageFile: tidySpatialExperiment_1.4.1.tar.gz PackageFileSize: 4.28 MiB