Package: tidyFlowCore Version: 1.2.0 Command: /Library/Frameworks/R.framework/Resources/bin/R CMD INSTALL tidyFlowCore StartedAt: 2025-10-13 15:25:19 -0400 (Mon, 13 Oct 2025) EndedAt: 2025-10-13 15:25:40 -0400 (Mon, 13 Oct 2025) EllapsedTime: 21.2 seconds RetCode: 0 Status: OK