Package: tidyFlowCore Version: 1.2.0 Command: /Library/Frameworks/R.framework/Resources/bin/R CMD build --keep-empty-dirs --no-resave-data tidyFlowCore StartedAt: 2025-10-13 23:13:43 -0400 (Mon, 13 Oct 2025) EndedAt: 2025-10-13 23:15:59 -0400 (Mon, 13 Oct 2025) EllapsedTime: 136.1 seconds RetCode: 0 Status: OK PackageFile: tidyFlowCore_1.2.0.tar.gz PackageFileSize: 776.1 KiB