Package: tidyFlowCore Version: 1.2.0 Command: rm -rf tidyFlowCore.buildbin-libdir && mkdir tidyFlowCore.buildbin-libdir && /Users/biocbuild/BBS/utils/build-universal.sh tidyFlowCore_1.2.0.tar.gz /Library/Frameworks/R.framework/Resources/bin/R tidyFlowCore.buildbin-libdir StartedAt: 2025-10-14 14:57:41 -0400 (Tue, 14 Oct 2025) EndedAt: 2025-10-14 14:58:08 -0400 (Tue, 14 Oct 2025) EllapsedTime: 26.6 seconds RetCode: 0 Status: OK PackageFile: tidyFlowCore_1.2.0.tgz PackageFileSize: 917.7 KiB