Package: scuttle Version: 1.18.0 Command: /Library/Frameworks/R.framework/Resources/bin/R CMD build --keep-empty-dirs --no-resave-data scuttle StartedAt: 2025-09-29 22:32:18 -0400 (Mon, 29 Sep 2025) EndedAt: 2025-09-29 22:37:15 -0400 (Mon, 29 Sep 2025) EllapsedTime: 296.8 seconds RetCode: 0 Status: OK PackageFile: scuttle_1.18.0.tar.gz PackageFileSize: 1006 KiB