Package: scBubbletree Version: 1.10.0 Command: /Library/Frameworks/R.framework/Resources/bin/R CMD build --keep-empty-dirs --no-resave-data scBubbletree StartedAt: 2025-10-09 22:19:25 -0400 (Thu, 09 Oct 2025) EndedAt: 2025-10-09 22:30:58 -0400 (Thu, 09 Oct 2025) EllapsedTime: 693.6 seconds RetCode: 0 Status: OK PackageFile: scBubbletree_1.10.0.tar.gz PackageFileSize: 4.424 MiB