Package: sampleClassifier Version: 1.32.0 Command: /home/biocbuild/R/R/bin/R CMD INSTALL sampleClassifier StartedAt: 2025-10-13 20:44:13 -0000 (Mon, 13 Oct 2025) EndedAt: 2025-10-13 20:44:36 -0000 (Mon, 13 Oct 2025) EllapsedTime: 23.2 seconds RetCode: 0 Status: OK