Package: sampleClassifier Version: 1.32.0 Command: /home/biocbuild/R/R/bin/R CMD build --keep-empty-dirs --no-resave-data sampleClassifier StartedAt: 2025-10-14 04:17:12 -0000 (Tue, 14 Oct 2025) EndedAt: 2025-10-14 04:20:02 -0000 (Tue, 14 Oct 2025) EllapsedTime: 170.1 seconds RetCode: 0 Status: OK PackageFile: sampleClassifier_1.32.0.tar.gz PackageFileSize: 231.1 KiB