Package: nipalsMCIA Version: 1.6.0 Command: /home/biocbuild/R/R/bin/R CMD INSTALL nipalsMCIA StartedAt: 2025-10-13 20:32:49 -0000 (Mon, 13 Oct 2025) EndedAt: 2025-10-13 20:33:28 -0000 (Mon, 13 Oct 2025) EllapsedTime: 38.9 seconds RetCode: 0 Status: OK