Package: nipalsMCIA Version: 1.6.0 Command: /home/biocbuild/R/R/bin/R CMD build --keep-empty-dirs --no-resave-data nipalsMCIA StartedAt: 2025-10-14 03:04:33 -0000 (Tue, 14 Oct 2025) EndedAt: 2025-10-14 03:09:00 -0000 (Tue, 14 Oct 2025) EllapsedTime: 266.4 seconds RetCode: 1 Status: ERROR PackageFile: None PackageFileSize: NA