Package: iSEEtree Version: 1.2.0 Command: /Library/Frameworks/R.framework/Resources/bin/R CMD INSTALL iSEEtree StartedAt: 2025-10-13 18:20:47 -0400 (Mon, 13 Oct 2025) EndedAt: 2025-10-13 18:21:45 -0400 (Mon, 13 Oct 2025) EllapsedTime: 57.9 seconds RetCode: 0 Status: OK