Package: diffuStats Version: 1.28.0 Command: /home/biocbuild/bbs-3.21-bioc/R/bin/R CMD INSTALL diffuStats StartedAt: 2025-10-05 15:07:30 -0400 (Sun, 05 Oct 2025) EndedAt: 2025-10-05 15:07:56 -0400 (Sun, 05 Oct 2025) EllapsedTime: 25.9 seconds RetCode: 0 Status: OK