Package: diffuStats Version: 1.28.0 Command: /home/biocbuild/bbs-3.21-bioc/R/bin/R CMD build --keep-empty-dirs --no-resave-data diffuStats StartedAt: 2025-10-05 17:14:07 -0400 (Sun, 05 Oct 2025) EndedAt: 2025-10-05 17:14:53 -0400 (Sun, 05 Oct 2025) EllapsedTime: 46.0 seconds RetCode: 0 Status: OK PackageFile: diffuStats_1.28.0.tar.gz PackageFileSize: 1.314 MiB