Package: diffuStats Version: 1.28.0 Command: /Library/Frameworks/R.framework/Resources/bin/R CMD build --keep-empty-dirs --no-resave-data diffuStats StartedAt: 2025-09-29 23:27:48 -0400 (Mon, 29 Sep 2025) EndedAt: 2025-09-29 23:28:45 -0400 (Mon, 29 Sep 2025) EllapsedTime: 57.2 seconds RetCode: 0 Status: OK PackageFile: diffuStats_1.28.0.tar.gz PackageFileSize: 1.33 MiB