Package: diffcoexp Version: 1.28.0 Command: /home/biocbuild/R/R/bin/R CMD INSTALL diffcoexp StartedAt: 2025-10-02 21:04:09 -0000 (Thu, 02 Oct 2025) EndedAt: 2025-10-02 21:04:50 -0000 (Thu, 02 Oct 2025) EllapsedTime: 41.0 seconds RetCode: 0 Status: OK