Package: diffcoexp Version: 1.28.0 Command: /home/biocbuild/R/R/bin/R CMD build --keep-empty-dirs --no-resave-data diffcoexp StartedAt: 2025-10-03 00:25:22 -0000 (Fri, 03 Oct 2025) EndedAt: 2025-10-03 00:26:18 -0000 (Fri, 03 Oct 2025) EllapsedTime: 56.0 seconds RetCode: 0 Status: OK PackageFile: diffcoexp_1.28.0.tar.gz PackageFileSize: 286.3 KiB