Package: diffUTR Version: 1.16.0 Command: /home/biocbuild/R/R/bin/R CMD INSTALL diffUTR StartedAt: 2025-10-02 20:54:30 -0000 (Thu, 02 Oct 2025) EndedAt: 2025-10-02 20:55:32 -0000 (Thu, 02 Oct 2025) EllapsedTime: 62.0 seconds RetCode: 0 Status: OK